BEGIN:VCALENDAR
VERSION:2.0
PRODID:-//Alenas.ca - ECPv6.15.20//NONSGML v1.0//EN
CALSCALE:GREGORIAN
METHOD:PUBLISH
X-ORIGINAL-URL:https://alenas.ca
X-WR-CALDESC:Events for Alenas.ca
REFRESH-INTERVAL;VALUE=DURATION:PT1H
X-Robots-Tag:noindex
X-PUBLISHED-TTL:PT1H
BEGIN:VTIMEZONE
TZID:America/Toronto
BEGIN:DAYLIGHT
TZOFFSETFROM:-0500
TZOFFSETTO:-0400
TZNAME:EDT
DTSTART:20230312T070000
END:DAYLIGHT
BEGIN:STANDARD
TZOFFSETFROM:-0400
TZOFFSETTO:-0500
TZNAME:EST
DTSTART:20231105T060000
END:STANDARD
BEGIN:DAYLIGHT
TZOFFSETFROM:-0500
TZOFFSETTO:-0400
TZNAME:EDT
DTSTART:20240310T070000
END:DAYLIGHT
BEGIN:STANDARD
TZOFFSETFROM:-0400
TZOFFSETTO:-0500
TZNAME:EST
DTSTART:20241103T060000
END:STANDARD
BEGIN:DAYLIGHT
TZOFFSETFROM:-0500
TZOFFSETTO:-0400
TZNAME:EDT
DTSTART:20250309T070000
END:DAYLIGHT
BEGIN:STANDARD
TZOFFSETFROM:-0400
TZOFFSETTO:-0500
TZNAME:EST
DTSTART:20251102T060000
END:STANDARD
END:VTIMEZONE
BEGIN:VEVENT
DTSTART;TZID=America/Toronto:20240706T083000
DTEND;TZID=America/Toronto:20240706T130000
DTSTAMP:20260423T001235
CREATED:20240528T210444Z
LAST-MODIFIED:20240528T210501Z
UID:16019-1720254600-1720270800@alenas.ca
SUMMARY:Alena's at the stouffville farmers market
DESCRIPTION:✨ Excited to be at the Stouffville Farmers Market on July 6th from 9 AM to 1 PM! 🕯️ Come visit Alenas\, your favourite Canadian candle company! 🌟
URL:https://alenas.ca/event/alenas-at-the-stouffville-farmers-market/
LOCATION:6240 Main St\, 6240 Main St\, Whitchurch-Stouffville\, ON\, L4A 1E2\, Canada
END:VEVENT
END:VCALENDAR