BEGIN:VCALENDAR
VERSION:2.0
PRODID:-//Alenas.ca - ECPv6.15.20//NONSGML v1.0//EN
CALSCALE:GREGORIAN
METHOD:PUBLISH
X-ORIGINAL-URL:https://alenas.ca
X-WR-CALDESC:Events for Alenas.ca
REFRESH-INTERVAL;VALUE=DURATION:PT1H
X-Robots-Tag:noindex
X-PUBLISHED-TTL:PT1H
BEGIN:VTIMEZONE
TZID:America/Toronto
BEGIN:DAYLIGHT
TZOFFSETFROM:-0500
TZOFFSETTO:-0400
TZNAME:EDT
DTSTART:20230312T070000
END:DAYLIGHT
BEGIN:STANDARD
TZOFFSETFROM:-0400
TZOFFSETTO:-0500
TZNAME:EST
DTSTART:20231105T060000
END:STANDARD
BEGIN:DAYLIGHT
TZOFFSETFROM:-0500
TZOFFSETTO:-0400
TZNAME:EDT
DTSTART:20240310T070000
END:DAYLIGHT
BEGIN:STANDARD
TZOFFSETFROM:-0400
TZOFFSETTO:-0500
TZNAME:EST
DTSTART:20241103T060000
END:STANDARD
BEGIN:DAYLIGHT
TZOFFSETFROM:-0500
TZOFFSETTO:-0400
TZNAME:EDT
DTSTART:20250309T070000
END:DAYLIGHT
BEGIN:STANDARD
TZOFFSETFROM:-0400
TZOFFSETTO:-0500
TZNAME:EST
DTSTART:20251102T060000
END:STANDARD
END:VTIMEZONE
BEGIN:VEVENT
DTSTART;TZID=America/Toronto:20241202T103000
DTEND;TZID=America/Toronto:20241204T190000
DTSTAMP:20260421T191323
CREATED:20241201T055913Z
LAST-MODIFIED:20241201T055951Z
UID:17172-1733135400-1733338800@alenas.ca
SUMMARY:CIBC’s Holiday Market 🎁✨
DESCRIPTION:CIBC’s Holiday Market 🎁✨🗓 When: Monday\, December 2 – Wednesday\, December 4\, 2024\, 11:00 AM – 7:00 PM📍 Where: CIBC Square\, 81 Bay Street\, Toronto\, ON\, M5J 0E7 – 4th floor
URL:https://alenas.ca/event/cibcs-holiday-market-%f0%9f%8e%81%e2%9c%a8/
LOCATION:cibc square\, 81 Bay Street\, toronto\, M5J 0E7\, Canada
END:VEVENT
END:VCALENDAR