BEGIN:VCALENDAR
VERSION:2.0
PRODID:-//Alenas.ca - ECPv6.15.20//NONSGML v1.0//EN
CALSCALE:GREGORIAN
METHOD:PUBLISH
X-ORIGINAL-URL:https://alenas.ca
X-WR-CALDESC:Events for Alenas.ca
REFRESH-INTERVAL;VALUE=DURATION:PT1H
X-Robots-Tag:noindex
X-PUBLISHED-TTL:PT1H
BEGIN:VTIMEZONE
TZID:America/Toronto
BEGIN:DAYLIGHT
TZOFFSETFROM:-0500
TZOFFSETTO:-0400
TZNAME:EDT
DTSTART:20240310T070000
END:DAYLIGHT
BEGIN:STANDARD
TZOFFSETFROM:-0400
TZOFFSETTO:-0500
TZNAME:EST
DTSTART:20241103T060000
END:STANDARD
BEGIN:DAYLIGHT
TZOFFSETFROM:-0500
TZOFFSETTO:-0400
TZNAME:EDT
DTSTART:20250309T070000
END:DAYLIGHT
BEGIN:STANDARD
TZOFFSETFROM:-0400
TZOFFSETTO:-0500
TZNAME:EST
DTSTART:20251102T060000
END:STANDARD
BEGIN:DAYLIGHT
TZOFFSETFROM:-0500
TZOFFSETTO:-0400
TZNAME:EDT
DTSTART:20260308T070000
END:DAYLIGHT
BEGIN:STANDARD
TZOFFSETFROM:-0400
TZOFFSETTO:-0500
TZNAME:EST
DTSTART:20261101T060000
END:STANDARD
END:VTIMEZONE
BEGIN:VEVENT
DTSTART;TZID=America/Toronto:20250627T170000
DTEND;TZID=America/Toronto:20250629T210000
DTSTAMP:20260420T210641
CREATED:20250505T165942Z
LAST-MODIFIED:20250505T165952Z
UID:17886-1751043600-1751230800@alenas.ca
SUMMARY:Stouffville Strawberry Festival 🍓
DESCRIPTION:Find Alena’s Candle Company at the Stouffville Strawberry Festival!🍓 We’re bringing sweet summer vibes and even sweeter scents to the festival! Come explore our collection of hand-poured soy candles\, made in small batches with 100% natural soy wax and clean\, paraben- & phthalate-free fragrance oils.✨ We’re featuring our Berry Much Champagne candle all weekend long—it’s fruity\, fizzy\, and festival-ready! \n\n\n\n📍 Where: Memorial Park\, 2 Park Drive\, Stouffville\, ON🗓 When:• Friday\, June 27: 5:00 PM – 9:00 PM• Saturday\, June 28: 10:00 AM – 9:00 PM• Sunday\, June 29: 10:00 AM – 9:00 PM \n\n\n\nStop by our booth\, sniff around\, and stock up on your faves (or find a new one)!
URL:https://alenas.ca/event/stouffville-strawberry-festival-%f0%9f%8d%93/
LOCATION:memorial park\, 2 Park Dr\, Whitchurch-Stouffville\, ON\, L4A 4K1\, Canada
END:VEVENT
END:VCALENDAR