BEGIN:VCALENDAR
VERSION:2.0
PRODID:-//Alenas.ca - ECPv6.15.20//NONSGML v1.0//EN
CALSCALE:GREGORIAN
METHOD:PUBLISH
X-ORIGINAL-URL:https://alenas.ca
X-WR-CALDESC:Events for Alenas.ca
REFRESH-INTERVAL;VALUE=DURATION:PT1H
X-Robots-Tag:noindex
X-PUBLISHED-TTL:PT1H
BEGIN:VTIMEZONE
TZID:America/Toronto
BEGIN:DAYLIGHT
TZOFFSETFROM:-0500
TZOFFSETTO:-0400
TZNAME:EDT
DTSTART:20230312T070000
END:DAYLIGHT
BEGIN:STANDARD
TZOFFSETFROM:-0400
TZOFFSETTO:-0500
TZNAME:EST
DTSTART:20231105T060000
END:STANDARD
BEGIN:DAYLIGHT
TZOFFSETFROM:-0500
TZOFFSETTO:-0400
TZNAME:EDT
DTSTART:20240310T070000
END:DAYLIGHT
BEGIN:STANDARD
TZOFFSETFROM:-0400
TZOFFSETTO:-0500
TZNAME:EST
DTSTART:20241103T060000
END:STANDARD
BEGIN:DAYLIGHT
TZOFFSETFROM:-0500
TZOFFSETTO:-0400
TZNAME:EDT
DTSTART:20250309T070000
END:DAYLIGHT
BEGIN:STANDARD
TZOFFSETFROM:-0400
TZOFFSETTO:-0500
TZNAME:EST
DTSTART:20251102T060000
END:STANDARD
END:VTIMEZONE
BEGIN:VEVENT
DTSTART;TZID=America/Toronto:20240608T083000
DTEND;TZID=America/Toronto:20240608T130000
DTSTAMP:20260422T172545
CREATED:20240528T205622Z
LAST-MODIFIED:20240528T205643Z
UID:16014-1717835400-1717851600@alenas.ca
SUMMARY:Alena's at the Main St Markham Farmers Market
DESCRIPTION:Join us at the Main St Markham Farmers Market on June 8th from 9 AM to 1 PM! 🛍️ Alenas\, a Canadian candle company\, will be there with our unique and delightful candles 🕯️. Don’t miss out on this opportunity to experience the vibrant atmosphere of the market and discover our high-quality products. See you there! 🌟
URL:https://alenas.ca/event/alenas-at-the-main-st-markham-farmers-market/
LOCATION:132 Robinson Street\, Markham\, ON\, L3P 5H5\, 132 Robinson Street\, Markham\, ON\, L3P 5H5\, Canada
END:VEVENT
BEGIN:VEVENT
DTSTART;TZID=America/Toronto:20240622T100000
DTEND;TZID=America/Toronto:20240623T170000
DTSTAMP:20260422T172545
CREATED:20240405T011009Z
LAST-MODIFIED:20240405T011356Z
UID:15713-1719050400-1719162000@alenas.ca
SUMMARY:Alena's Toronto @CFShops Don Mills Market
DESCRIPTION:Join us for our next market 🎉 at the Toronto Artisan Market\, located in CF Shops at Don Mills. Mark your calendars for June 22-23\, from 10am to 5pm. Visit Alena’s booth at the Toronto Artisan Market! 📍1090 Don Mills Rd.\, Toronto\, ON M3C 3R6
URL:https://alenas.ca/event/alenas-toronto-cfshops-don-mills-market-2/
LOCATION:CF Shops at Don Mills\, 1090 Don Mills Rd\, Toronto\, ON\, M3C 3R6\, Canada
END:VEVENT
BEGIN:VEVENT
DTSTART;TZID=America/Toronto:20240629T090000
DTEND;TZID=America/Toronto:20240630T210000
DTSTAMP:20260422T172545
CREATED:20240421T180219Z
LAST-MODIFIED:20240421T180323Z
UID:15940-1719651600-1719781200@alenas.ca
SUMMARY:Alena's @The Stouffville Strawberry Festival 24'
DESCRIPTION:🍓🎉 Get ready for a berrylicious time at the Stouffville Strawberry Festival! 🍓 Join us from 9 am to 9 pm on June 28th & 29th for a weekend filled with fun and flavor! 🎪 Don’t miss Alena’s booth where our candles will add a touch of sweetness to your festival experience! 🕯️ See you there! 🎈 #StouffvilleStrawberryFestival #SummerFun
URL:https://alenas.ca/event/alenas-the-stouffville-strawberry-festival-24/
LOCATION:Memorial Park\, 2 Park Dr\, Whitchurch-Stouffville\, ON\, L4A 4K1\, Canada
END:VEVENT
END:VCALENDAR